BEGIN:VCALENDAR
VERSION:2.0
PRODID:-//Rugby Sport Verein Köln - ECPv6.10.2//NONSGML v1.0//EN
CALSCALE:GREGORIAN
METHOD:PUBLISH
X-WR-CALNAME:Rugby Sport Verein Köln
X-ORIGINAL-URL:https://www.rugby-koeln.de
X-WR-CALDESC:Veranstaltungen für Rugby Sport Verein Köln
REFRESH-INTERVAL;VALUE=DURATION:PT1H
X-Robots-Tag:noindex
X-PUBLISHED-TTL:PT1H
BEGIN:VTIMEZONE
TZID:Europe/Berlin
BEGIN:DAYLIGHT
TZOFFSETFROM:+0100
TZOFFSETTO:+0200
TZNAME:CEST
DTSTART:20230326T010000
END:DAYLIGHT
BEGIN:STANDARD
TZOFFSETFROM:+0200
TZOFFSETTO:+0100
TZNAME:CET
DTSTART:20231029T010000
END:STANDARD
END:VTIMEZONE
BEGIN:VEVENT
DTSTART;TZID=Europe/Berlin:20230908T190000
DTEND;TZID=Europe/Berlin:20230908T233000
DTSTAMP:20260420T101353
CREATED:20230829T160216Z
LAST-MODIFIED:20230902T095954Z
UID:5290-1694199600-1694215800@www.rugby-koeln.de
SUMMARY:Französischer Abend zur WM-Eröffnung im Rugby Park
DESCRIPTION:Die Anmeldung für den französischen Abend ist geschlossen. Die maximale Anzahl ist erreicht.\n  \n  \n  \n  \n  \nEinladung zum Französischen Abend im Rugby Park \nAnlässlich der Rugby-WM Eröffnung am 8.September veranstalten wir einen Französischen Abend im Rugby Park\n-Wann? Freitag\, den 8.9. ab 19 Uhr\n-Was?Petanque\, französische Getränke (Wein\, Pastis\, Sirups…)\, Französische Snacks und Crêpes (Kölsch und Limo gibts natürlich auch)\n-wenn möglich OPENAIR \n-Anmeldung bis Sonntag\, den 3.9. unter info@rugby-koeln.de \nWir freuen uns auf euch Noah\, Anne-Mael\, Hadrien\, Nils\, Johanna und Richard \nInvitation à une soirée française  au club de Rugby ! \nÀ l’occasion du match d’ouverture de la coupe du monde de rugby le 8 septembre\, nous organisons une soirée française au club. \n– Date : Le vendredi 8 septembre à partir de 19h\n– Programme : Pétanque\, boissons françaises ( vin\, pastis\, sirops…)\, petites spécialités culinaires françaises et des crêpes ( il y aura aussi bien sûr de la Kölsch et des limonades)\n– Si le temps le permet en extérieur\n– Vous pouvez vous inscrire jusqu’au dimanche 3 septembre en envoyant un mail à info@rugby-koeln.de \nHâte de vous retrouver! \nNoah\, Anne-Maël\, Hadrien\, Nils\, Johanna et Richard \n 
URL:https://www.rugby-koeln.de/event/08-09-2023-franzoesischer-abend-zur-wm-eroeffnung-im-rugby-park/
LOCATION:Kölner Rugby Park\, Kölner Rugby Park\, Köln\, 50937\, Deutschland
CATEGORIES:Social Events
ATTACH;FMTTYPE=image/jpeg:https://www.rugby-koeln.de/wp-content/uploads/2023/08/IMG_5456-scaled.jpg
END:VEVENT
END:VCALENDAR