BEGIN:VCALENDAR
VERSION:2.0
PRODID:-//Rugby Sport Verein Köln - ECPv6.10.2//NONSGML v1.0//EN
CALSCALE:GREGORIAN
METHOD:PUBLISH
X-ORIGINAL-URL:https://www.rugby-koeln.de
X-WR-CALDESC:Veranstaltungen für Rugby Sport Verein Köln
REFRESH-INTERVAL;VALUE=DURATION:PT1H
X-Robots-Tag:noindex
X-PUBLISHED-TTL:PT1H
BEGIN:VTIMEZONE
TZID:Europe/Berlin
BEGIN:DAYLIGHT
TZOFFSETFROM:+0100
TZOFFSETTO:+0200
TZNAME:CEST
DTSTART:20230326T010000
END:DAYLIGHT
BEGIN:STANDARD
TZOFFSETFROM:+0200
TZOFFSETTO:+0100
TZNAME:CET
DTSTART:20231029T010000
END:STANDARD
END:VTIMEZONE
BEGIN:VEVENT
DTSTART;VALUE=DATE:20230902
DTEND;VALUE=DATE:20230904
DTSTAMP:20260420T100912
CREATED:20230829T155850Z
LAST-MODIFIED:20230829T155948Z
UID:5287-1693612800-1693785599@www.rugby-koeln.de
SUMMARY:Stand auf dem Sülzburgstraßenfest
DESCRIPTION:Am Wochende 2./3.September findet auch wieder das Caréefest\, auch bekannt als Sülzburgstraßenfest\, in Sülz statt. Dort werden wir wieder einen Aktionsstand haben\, um unser Veedel für unseren Sport zu begeistern 🙂 \nWer Interesse hat mitzuplanen\, kann sich sehr gerne bei uns melden 🙂 info@rugby-koeln.de
URL:https://www.rugby-koeln.de/event/stand-auf-dem-suelzburgstrassenfest/
LOCATION:Sülzburgstr.\, Sülzburgstraße\, Köln\, Deutschland
CATEGORIES:Social Events
END:VEVENT
END:VCALENDAR